BEGIN:VCALENDAR
VERSION:2.0
PRODID:-//Shisa karaté - ECPv6.15.17.1//NONSGML v1.0//EN
CALSCALE:GREGORIAN
METHOD:PUBLISH
X-ORIGINAL-URL:https://shisakarate-annecy.com
X-WR-CALDESC:Évènements pour Shisa karaté
REFRESH-INTERVAL;VALUE=DURATION:PT1H
X-Robots-Tag:noindex
X-PUBLISHED-TTL:PT1H
BEGIN:VTIMEZONE
TZID:Europe/Zurich
BEGIN:DAYLIGHT
TZOFFSETFROM:+0100
TZOFFSETTO:+0200
TZNAME:CEST
DTSTART:20240331T010000
END:DAYLIGHT
BEGIN:STANDARD
TZOFFSETFROM:+0200
TZOFFSETTO:+0100
TZNAME:CET
DTSTART:20241027T010000
END:STANDARD
BEGIN:DAYLIGHT
TZOFFSETFROM:+0100
TZOFFSETTO:+0200
TZNAME:CEST
DTSTART:20250330T010000
END:DAYLIGHT
BEGIN:STANDARD
TZOFFSETFROM:+0200
TZOFFSETTO:+0100
TZNAME:CET
DTSTART:20251026T010000
END:STANDARD
BEGIN:DAYLIGHT
TZOFFSETFROM:+0100
TZOFFSETTO:+0200
TZNAME:CEST
DTSTART:20260329T010000
END:DAYLIGHT
BEGIN:STANDARD
TZOFFSETFROM:+0200
TZOFFSETTO:+0100
TZNAME:CET
DTSTART:20261025T010000
END:STANDARD
END:VTIMEZONE
BEGIN:VEVENT
DTSTART;TZID=Europe/Zurich:20250901T190000
DTEND;TZID=Europe/Zurich:20250901T213000
DTSTAMP:20260421T135952
CREATED:20250726T172616Z
LAST-MODIFIED:20250726T173500Z
UID:226333-1756753200-1756762200@shisakarate-annecy.com
SUMMARY:Nouvelle Saison 2025-2026
DESCRIPTION:🗓️ C’est la rentrée chez Shisa Karaté ! 🥋 \nLe moment est enfin venu de remettre nos ceintures\, de faire craquer nos karategi et de retrouver l’énergie des tatamis. Que vous soyez débutant ou confirmé\, cette nouvelle saison est l’occasion parfaite pour vous lancer de nouveaux défis et repousser vos limites\, toujours avec le sourire ! 😄 \nSous la bienveillance de votre fidèle Shisa\, vous découvrirez une saison riche en apprentissages\, en dépassements et en moments de partage. On se retrouve au dojo pour écrire ensemble une nouvelle page de cette belle aventure martiale !
URL:https://shisakarate-annecy.com/agenda/nouvelle-saison-2025-2026/
LOCATION:Salle de Novel\, 70 Ter Av. de France\, Annecy\, 74000\, France
CATEGORIES:Saison,Shisa
END:VEVENT
END:VCALENDAR