BEGIN:VCALENDAR
VERSION:2.0
PRODID:-//Shisa karaté - ECPv6.15.17.1//NONSGML v1.0//EN
CALSCALE:GREGORIAN
METHOD:PUBLISH
X-ORIGINAL-URL:https://shisakarate-annecy.com
X-WR-CALDESC:Évènements pour Shisa karaté
REFRESH-INTERVAL;VALUE=DURATION:PT1H
X-Robots-Tag:noindex
X-PUBLISHED-TTL:PT1H
BEGIN:VTIMEZONE
TZID:Europe/Zurich
BEGIN:DAYLIGHT
TZOFFSETFROM:+0100
TZOFFSETTO:+0200
TZNAME:CEST
DTSTART:20240331T010000
END:DAYLIGHT
BEGIN:STANDARD
TZOFFSETFROM:+0200
TZOFFSETTO:+0100
TZNAME:CET
DTSTART:20241027T010000
END:STANDARD
BEGIN:DAYLIGHT
TZOFFSETFROM:+0100
TZOFFSETTO:+0200
TZNAME:CEST
DTSTART:20250330T010000
END:DAYLIGHT
BEGIN:STANDARD
TZOFFSETFROM:+0200
TZOFFSETTO:+0100
TZNAME:CET
DTSTART:20251026T010000
END:STANDARD
BEGIN:DAYLIGHT
TZOFFSETFROM:+0100
TZOFFSETTO:+0200
TZNAME:CEST
DTSTART:20260329T010000
END:DAYLIGHT
BEGIN:STANDARD
TZOFFSETFROM:+0200
TZOFFSETTO:+0100
TZNAME:CET
DTSTART:20261025T010000
END:STANDARD
END:VTIMEZONE
BEGIN:VEVENT
DTSTART;TZID=Europe/Zurich:20250702T183000
DTEND;TZID=Europe/Zurich:20250702T200000
DTSTAMP:20260421T181128
CREATED:20250629T143650Z
LAST-MODIFIED:20250629T143650Z
UID:226318-1751481000-1751486400@shisakarate-annecy.com
SUMMARY:Pot de fin de saison
DESCRIPTION:Pour fêter la fin de saison\, on se retrouve tous au petit port avec de partager boissons et joyeusetés culinaires. Que chacun apporte ses plus belles chips ou cakes\, voir salades\, sans oublier les bières ! \n 
URL:https://shisakarate-annecy.com/agenda/pot-de-fin-de-saison/
LOCATION:Petit port\, Avenue du Petit Port\, Annecy\, 74940\, France
ATTACH;FMTTYPE=image/jpeg:https://shisakarate-annecy.com/wp-content/uploads/2024/08/Global-Shisa-kKarate-_DSC4227-20240519.jpg
END:VEVENT
BEGIN:VEVENT
DTSTART;TZID=Europe/Zurich:20250704T190000
DTEND;TZID=Europe/Zurich:20250704T203000
DTSTAMP:20260421T181128
CREATED:20250629T143114Z
LAST-MODIFIED:20250629T143114Z
UID:226316-1751655600-1751661000@shisakarate-annecy.com
SUMMARY:Fin des cours
DESCRIPTION:Fin des cours de karaté et de Self-défense pour la saison 2024-2025. \nOn se retrouve pour la nouvelle saison en septembre 2025 !
URL:https://shisakarate-annecy.com/agenda/fin-des-cours/
LOCATION:Dojo Raoul Blanchard\, 7 Rue de la Paix\, Annecy\, 74000\, France
CATEGORIES:Saison,Shisa
END:VEVENT
BEGIN:VEVENT
DTSTART;TZID=Europe/Zurich:20250708T063000
DTEND;TZID=Europe/Zurich:20250708T193000
DTSTAMP:20260421T181128
CREATED:20250629T144842Z
LAST-MODIFIED:20250630T053741Z
UID:226321-1751956200-1752003000@shisakarate-annecy.com
SUMMARY:Vital'été
DESCRIPTION:Dans le cadre du programme Vital’été de la ville d’Annecy\, notre club Shisa Karaté propose deux fois par semaine\, le mardi et le vendredi\, des cours d’initiation au karaté Goju-Ryu. \nDepuis 2021\, Vital’été fait découvrir et pratiquer des séances d’activités physiques et sportives (APS) gratuitement sur l’ensemble du territoire annécien pendant l’été. \nLes cours se dérouleront du 8 juillet au 22 août : \n\nMardi\, de 18h30 à 19h30\, dans le Parc Gabriel Fauré\, en dessous de la Maire d’Annecy-le-Vieux (voir l’emplacement)\nVendredi\, de 18h30 à 19h30\, dans le parc en face de la mairie de Meythet (voir l’emplacement)\n\nPour les pratiquants de Shisa Karaté\, venez participer et montrer aux curieux votre pratique du Goju-Ryu.
URL:https://shisakarate-annecy.com/agenda/vitalete/
LOCATION:Parc Gabriel Fauré Annecy-le-Vieux\, Parc gabriel Fauré\, Rue Jean Mermoz\, Annecy\, 74940\, France
CATEGORIES:Saison,Shisa
END:VEVENT
END:VCALENDAR