BEGIN:VCALENDAR
VERSION:2.0
PRODID:-//Shisa karaté - ECPv6.15.17.1//NONSGML v1.0//EN
CALSCALE:GREGORIAN
METHOD:PUBLISH
X-ORIGINAL-URL:https://shisakarate-annecy.com
X-WR-CALDESC:Évènements pour Shisa karaté
REFRESH-INTERVAL;VALUE=DURATION:PT1H
X-Robots-Tag:noindex
X-PUBLISHED-TTL:PT1H
BEGIN:VTIMEZONE
TZID:Europe/Zurich
BEGIN:DAYLIGHT
TZOFFSETFROM:+0100
TZOFFSETTO:+0200
TZNAME:CEST
DTSTART:20240331T010000
END:DAYLIGHT
BEGIN:STANDARD
TZOFFSETFROM:+0200
TZOFFSETTO:+0100
TZNAME:CET
DTSTART:20241027T010000
END:STANDARD
BEGIN:DAYLIGHT
TZOFFSETFROM:+0100
TZOFFSETTO:+0200
TZNAME:CEST
DTSTART:20250330T010000
END:DAYLIGHT
BEGIN:STANDARD
TZOFFSETFROM:+0200
TZOFFSETTO:+0100
TZNAME:CET
DTSTART:20251026T010000
END:STANDARD
BEGIN:DAYLIGHT
TZOFFSETFROM:+0100
TZOFFSETTO:+0200
TZNAME:CEST
DTSTART:20260329T010000
END:DAYLIGHT
BEGIN:STANDARD
TZOFFSETFROM:+0200
TZOFFSETTO:+0100
TZNAME:CET
DTSTART:20261025T010000
END:STANDARD
END:VTIMEZONE
BEGIN:VEVENT
DTSTART;VALUE=DATE:20250601
DTEND;VALUE=DATE:20250602
DTSTAMP:20260421T192158
CREATED:20241127T122543Z
LAST-MODIFIED:20241127T123618Z
UID:226285-1748736000-1748822399@shisakarate-annecy.com
SUMMARY:Championnat de France kata vétérans – Indivs. 2024-2025
DESCRIPTION:Championnat de France kata vétérans – Indivs. \nLieu en attente de confirmation
URL:https://shisakarate-annecy.com/agenda/championnat-de-france-kata-veterans-indivs/
CATEGORIES:Compétitions,Shisa
END:VEVENT
BEGIN:VEVENT
DTSTART;TZID=Europe/Zurich:20250617T070000
DTEND;TZID=Europe/Zurich:20250617T200000
DTSTAMP:20260421T192158
CREATED:20240828T100122Z
LAST-MODIFIED:20250503T094436Z
UID:225966-1750143600-1750190400@shisakarate-annecy.com
SUMMARY:Passage de grade Self-défense saison 2024-2025
DESCRIPTION:Passage de grade Self-défense saison 2024-2025
URL:https://shisakarate-annecy.com/agenda/passage-de-grade-self-defense-saison-2024-2025/
LOCATION:Dojo Raoul Blanchard\, 7 Rue de la Paix\, Annecy\, 74000\, France
CATEGORIES:Grade,Shisa
END:VEVENT
BEGIN:VEVENT
DTSTART;TZID=Europe/Zurich:20250618T183000
DTEND;TZID=Europe/Zurich:20250618T200000
DTSTAMP:20260421T192158
CREATED:20240828T092733Z
LAST-MODIFIED:20250503T094407Z
UID:225951-1750271400-1750276800@shisakarate-annecy.com
SUMMARY:Passage de grade Karaté saison 2024-2025
DESCRIPTION:Passage de grade Shisa Karaté saison 2024-2025
URL:https://shisakarate-annecy.com/agenda/passage-de-grade-karate-saison-2024-2025/
LOCATION:Dojo Raoul Blanchard\, 7 Rue de la Paix\, Annecy\, 74000\, France
CATEGORIES:Grade,Shisa
END:VEVENT
END:VCALENDAR