BEGIN:VCALENDAR
VERSION:2.0
PRODID:-//Shisa karaté - ECPv6.15.17.1//NONSGML v1.0//EN
CALSCALE:GREGORIAN
METHOD:PUBLISH
X-ORIGINAL-URL:https://shisakarate-annecy.com
X-WR-CALDESC:Évènements pour Shisa karaté
REFRESH-INTERVAL;VALUE=DURATION:PT1H
X-Robots-Tag:noindex
X-PUBLISHED-TTL:PT1H
BEGIN:VTIMEZONE
TZID:Europe/Zurich
BEGIN:DAYLIGHT
TZOFFSETFROM:+0100
TZOFFSETTO:+0200
TZNAME:CEST
DTSTART:20240331T010000
END:DAYLIGHT
BEGIN:STANDARD
TZOFFSETFROM:+0200
TZOFFSETTO:+0100
TZNAME:CET
DTSTART:20241027T010000
END:STANDARD
BEGIN:DAYLIGHT
TZOFFSETFROM:+0100
TZOFFSETTO:+0200
TZNAME:CEST
DTSTART:20250330T010000
END:DAYLIGHT
BEGIN:STANDARD
TZOFFSETFROM:+0200
TZOFFSETTO:+0100
TZNAME:CET
DTSTART:20251026T010000
END:STANDARD
BEGIN:DAYLIGHT
TZOFFSETFROM:+0100
TZOFFSETTO:+0200
TZNAME:CEST
DTSTART:20260329T010000
END:DAYLIGHT
BEGIN:STANDARD
TZOFFSETFROM:+0200
TZOFFSETTO:+0100
TZNAME:CET
DTSTART:20261025T010000
END:STANDARD
END:VTIMEZONE
BEGIN:VEVENT
DTSTART;VALUE=DATE:20250222
DTEND;VALUE=DATE:20250223
DTSTAMP:20260423T051238
CREATED:20241127T122341Z
LAST-MODIFIED:20241127T123654Z
UID:226280-1740182400-1740268799@shisakarate-annecy.com
SUMMARY:CHAMPIONNAT RÉGIONAL KATA M/C/J/S IND ET J/S ÉQUIPE 2024-2025
DESCRIPTION:CHAMPIONNAT RÉGIONAL KATA M/C/J/S IND ET J/S ÉQUIPE \nLieu en attente de confirmation
URL:https://shisakarate-annecy.com/agenda/championnat-regional-kata-m-c-j-s-ind-et-j-s-equipe/
LOCATION:Haute-Savoie
CATEGORIES:Compétitions,Shisa
END:VEVENT
BEGIN:VEVENT
DTSTART;VALUE=DATE:20250222
DTEND;VALUE=DATE:20250223
DTSTAMP:20260423T051238
CREATED:20241127T122425Z
LAST-MODIFIED:20241127T123717Z
UID:226282-1740182400-1740268799@shisakarate-annecy.com
SUMMARY:Coupe Régionale KATA vétérans individuels et équipe 2024-2025
DESCRIPTION:Coupe Régionale KATA vétérans individuels et équipe \nLieu en attente de confirmation
URL:https://shisakarate-annecy.com/agenda/coupe-regionale-kata-veterans-individuels-et-equipe/
LOCATION:Haute-Savoie
CATEGORIES:Compétitions,Shisa
END:VEVENT
END:VCALENDAR