BEGIN:VCALENDAR
VERSION:2.0
PRODID:-//Shisa karaté - ECPv6.15.17.1//NONSGML v1.0//EN
CALSCALE:GREGORIAN
METHOD:PUBLISH
X-WR-CALNAME:Shisa karaté
X-ORIGINAL-URL:https://shisakarate-annecy.com
X-WR-CALDESC:Évènements pour Shisa karaté
REFRESH-INTERVAL;VALUE=DURATION:PT1H
X-Robots-Tag:noindex
X-PUBLISHED-TTL:PT1H
BEGIN:VTIMEZONE
TZID:Europe/Zurich
BEGIN:DAYLIGHT
TZOFFSETFROM:+0100
TZOFFSETTO:+0200
TZNAME:CEST
DTSTART:20240331T010000
END:DAYLIGHT
BEGIN:STANDARD
TZOFFSETFROM:+0200
TZOFFSETTO:+0100
TZNAME:CET
DTSTART:20241027T010000
END:STANDARD
BEGIN:DAYLIGHT
TZOFFSETFROM:+0100
TZOFFSETTO:+0200
TZNAME:CEST
DTSTART:20250330T010000
END:DAYLIGHT
BEGIN:STANDARD
TZOFFSETFROM:+0200
TZOFFSETTO:+0100
TZNAME:CET
DTSTART:20251026T010000
END:STANDARD
BEGIN:DAYLIGHT
TZOFFSETFROM:+0100
TZOFFSETTO:+0200
TZNAME:CEST
DTSTART:20260329T010000
END:DAYLIGHT
BEGIN:STANDARD
TZOFFSETFROM:+0200
TZOFFSETTO:+0100
TZNAME:CET
DTSTART:20261025T010000
END:STANDARD
END:VTIMEZONE
BEGIN:VEVENT
DTSTART;VALUE=DATE:20251018
DTEND;VALUE=DATE:20251103
DTSTAMP:20260419T142307
CREATED:20251015T154053Z
LAST-MODIFIED:20251015T230118Z
UID:226670-1760745600-1762127999@shisakarate-annecy.com
SUMMARY:Vacances de la Toussaint - Absence de cours
DESCRIPTION:En raison des vacances\, il n’y a pas de cours. \nUne occasion de profiter des belles couleurs d’automne et de revenir en forme ! \nInformation importante\nLa reprise des cours aura lieu le lundi 3 novembre.\nIl n’y aura pas cours le vendredi 7 novembre et le lundi 10 novembre car nos valeureux professeurs et élèves partent s’entraîner lors d’un stage international de Goju-Ryu\, à Montréal. 🙂 \nBelles vacance à toutes et à tous !
URL:https://shisakarate-annecy.com/agenda/vacances-de-la-toussaint-absence-de-cours-2/
CATEGORIES:Saison,Shisa
END:VEVENT
END:VCALENDAR