BEGIN:VCALENDAR
VERSION:2.0
PRODID:-//Shisa karaté - ECPv6.15.17.1//NONSGML v1.0//EN
CALSCALE:GREGORIAN
METHOD:PUBLISH
X-ORIGINAL-URL:https://shisakarate-annecy.com
X-WR-CALDESC:Évènements pour Shisa karaté
REFRESH-INTERVAL;VALUE=DURATION:PT1H
X-Robots-Tag:noindex
X-PUBLISHED-TTL:PT1H
BEGIN:VTIMEZONE
TZID:Europe/Zurich
BEGIN:DAYLIGHT
TZOFFSETFROM:+0100
TZOFFSETTO:+0200
TZNAME:CEST
DTSTART:20240331T010000
END:DAYLIGHT
BEGIN:STANDARD
TZOFFSETFROM:+0200
TZOFFSETTO:+0100
TZNAME:CET
DTSTART:20241027T010000
END:STANDARD
BEGIN:DAYLIGHT
TZOFFSETFROM:+0100
TZOFFSETTO:+0200
TZNAME:CEST
DTSTART:20250330T010000
END:DAYLIGHT
BEGIN:STANDARD
TZOFFSETFROM:+0200
TZOFFSETTO:+0100
TZNAME:CET
DTSTART:20251026T010000
END:STANDARD
BEGIN:DAYLIGHT
TZOFFSETFROM:+0100
TZOFFSETTO:+0200
TZNAME:CEST
DTSTART:20260329T010000
END:DAYLIGHT
BEGIN:STANDARD
TZOFFSETFROM:+0200
TZOFFSETTO:+0100
TZNAME:CET
DTSTART:20261025T010000
END:STANDARD
END:VTIMEZONE
BEGIN:VEVENT
DTSTART;TZID=Europe/Zurich:20250702T183000
DTEND;TZID=Europe/Zurich:20250702T200000
DTSTAMP:20260421T205359
CREATED:20250629T143650Z
LAST-MODIFIED:20250629T143650Z
UID:226318-1751481000-1751486400@shisakarate-annecy.com
SUMMARY:Pot de fin de saison
DESCRIPTION:Pour fêter la fin de saison\, on se retrouve tous au petit port avec de partager boissons et joyeusetés culinaires. Que chacun apporte ses plus belles chips ou cakes\, voir salades\, sans oublier les bières ! \n 
URL:https://shisakarate-annecy.com/agenda/pot-de-fin-de-saison/
LOCATION:Petit port\, Avenue du Petit Port\, Annecy\, 74940\, France
ATTACH;FMTTYPE=image/jpeg:https://shisakarate-annecy.com/wp-content/uploads/2024/08/Global-Shisa-kKarate-_DSC4227-20240519.jpg
END:VEVENT
END:VCALENDAR